BEGIN:VCALENDAR
VERSION:2.0
PRODID:-//Aesthetic University - ECPv5.7.1//NONSGML v1.0//EN
CALSCALE:GREGORIAN
METHOD:PUBLISH
X-WR-CALNAME:Aesthetic University
X-ORIGINAL-URL:https://aestheticuniversity.com
X-WR-CALDESC:Events for Aesthetic University
BEGIN:VTIMEZONE
TZID:America/New_York
BEGIN:DAYLIGHT
TZOFFSETFROM:-0500
TZOFFSETTO:-0400
TZNAME:EDT
DTSTART:20210314T070000
END:DAYLIGHT
BEGIN:STANDARD
TZOFFSETFROM:-0400
TZOFFSETTO:-0500
TZNAME:EST
DTSTART:20211107T060000
END:STANDARD
END:VTIMEZONE
BEGIN:VEVENT
DTSTART;TZID=America/New_York:20211121T090000
DTEND;TZID=America/New_York:20211121T170000
DTSTAMP:20260425T062204
CREATED:20210920T135936Z
LAST-MODIFIED:20211117T172907Z
UID:2367-1637485200-1637514000@aestheticuniversity.com
SUMMARY:Advanced Tox and Filler Training (11/21/21)
DESCRIPTION:CLICK HERE TO PURCHASE\n		\n					\n		\n				\n				\n				\n				\n								\n					\n 	Non-Members:  $3600\n 	Members: $2880\n 	Class size limited to 6\n 	Course description available below\n\nAesthetic University’s Advanced Neurotoxin and Filler Course is a one-day course taught by advanced injector trainers. Participants must have a valid RN\, NP\, PA\, MD\, or DDS license to attend.\n\nThe advanced course is designed for those who have at minimum 6 months of injectable Neurotoxin and Dermal Filler experience.\nThe Advanced Course Includes:\n\n 	Informative didactic presentation\n 	The latest and advanced Neurotoxin and Dermal Filler Techniques\n 	Patient demonstrations\n 	8 Point Lift\n 	Advanced master lip training\n 	Advanced Sculptra and hyper dilute Radiesse\n 	Temples and tear troughs
URL:https://aestheticuniversity.com/class/11-21-advanced-tox-and-filler-training/
LOCATION:Moksha Aesthetics\, 10220 River Road\, Suite 3\, Potomac\, MD\, 20854\, United States
CATEGORIES:Advanced Courses
ATTACH;FMTTYPE=image/png:https://aestheticuniversity.com/wp-content/uploads/2021/10/FA7B165F-5304-4952-AD96-7176AAA1A264.png
END:VEVENT
END:VCALENDAR