BEGIN:VCALENDAR
VERSION:2.0
PRODID:-//Aesthetic University - ECPv5.7.1//NONSGML v1.0//EN
CALSCALE:GREGORIAN
METHOD:PUBLISH
X-WR-CALNAME:Aesthetic University
X-ORIGINAL-URL:https://aestheticuniversity.com
X-WR-CALDESC:Events for Aesthetic University
BEGIN:VTIMEZONE
TZID:America/New_York
BEGIN:DAYLIGHT
TZOFFSETFROM:-0500
TZOFFSETTO:-0400
TZNAME:EDT
DTSTART:20210314T070000
END:DAYLIGHT
BEGIN:STANDARD
TZOFFSETFROM:-0400
TZOFFSETTO:-0500
TZNAME:EST
DTSTART:20211107T060000
END:STANDARD
END:VTIMEZONE
BEGIN:VEVENT
DTSTART;TZID=America/New_York:20210823T100000
DTEND;TZID=America/New_York:20210823T160000
DTSTAMP:20260421T094534
CREATED:20210401T165012Z
LAST-MODIFIED:20210712T184001Z
UID:1721-1629712800-1629734400@aestheticuniversity.com
SUMMARY:Advanced Filler Techniques
DESCRIPTION:Purchase both Advanced Neuromodulator & Advanced Filler Technique classes for $4200 ($400 savings)\n*Discount will be automatically be applied at the end of checkout. \nTopics covered include:  \n-8-Point Lift\, Lip and Lip Framing\, Lower face harmonization: Chin and jawline\, Tear Troughs\, Non-Liquid Rhino and Dilute and Hyper dilute Radiesse-to include: buttocks\, hip dip\, lower face\, neck\, and chest)\, \nAdvanced dermal filler training involving live hands on.  A prerequisite for this course is: 1. You have taken our Beginner Filler Course or 2. Have a minimum of 6 months injectable experience- resume must be sent to confirm.  During this training we will cover advanced injection techniques and discuss how to properly utilize cannulas and specialized needle techniques in your practice. We will also go over how dilute/hyper dilute filler to aid in collagen and elastin production via the use of Radiesse. There will be a 2-hour anatomy and didactic section\, followed by lunch\, and the afternoon will be full hands on injecting. To receive certification\, you must participate in the hands-on section and be reviewed by the trainers. \nCourse Objectives: \n\nFull face balancing and body contouring\, to include physiology and pathophysiology of aging in these areas.\nFull facial injection anatomy\nIndications and contraindications for dermal fillers including\n Review of the rheological properties of the dermal fillers\nCannula vs. needle injection technique- why we choose one over the other\nPatient selection- The importance of setting realistic expectations\nPatient Consultation: The art of doing a consultation correctly\nHow to dilute/hyper dilute Radiesse for collagen and elastin production and facial harmonization\nHow to inject dilute/hyper dilute Radiesse for buttock augmentation\, cellulite reduction\, hip dips\, chest wrinkles\, neck laxity\, and jawline definition\nHow to blend tear trough filler and lip filler\nProtocols to avoid\, manage\, and treat possible adverse reactions and complications\n\nWhat’s included: \n\nPowerPoint Presentation (slides and videos in presentation are available to students following the training)\nLive in person lecture- all models\, and products included\nWe will cover all advanced injection techniques during our lecture\n\n** While it is our goal to ensure we have models for each procedure\, please keep in mind models can cancel last minute and sometimes are not candidates for the procedures they desire to have.  We will review every technique in detail during lecture and didactic and if a model does not present for one of the topics\, we will demonstrate it during lecture.
URL:https://aestheticuniversity.com/class/advanced-filler-techniques/
LOCATION:Moksha Aesthetics\, 10220 River Road\, Suite 3\, Potomac\, MD\, 20854\, United States
CATEGORIES:Advanced Courses
ATTACH;FMTTYPE=image/jpeg:https://aestheticuniversity.com/wp-content/uploads/2021/04/SOLDOUT_ClassPageHeaders_V2_AdvFiller.jpg
END:VEVENT
END:VCALENDAR