BEGIN:VCALENDAR
VERSION:2.0
PRODID:-//Aesthetic University - ECPv5.7.1//NONSGML v1.0//EN
CALSCALE:GREGORIAN
METHOD:PUBLISH
X-WR-CALNAME:Aesthetic University
X-ORIGINAL-URL:https://aestheticuniversity.com
X-WR-CALDESC:Events for Aesthetic University
BEGIN:VTIMEZONE
TZID:America/New_York
BEGIN:DAYLIGHT
TZOFFSETFROM:-0500
TZOFFSETTO:-0400
TZNAME:EDT
DTSTART:20210314T070000
END:DAYLIGHT
BEGIN:STANDARD
TZOFFSETFROM:-0400
TZOFFSETTO:-0500
TZNAME:EST
DTSTART:20211107T060000
END:STANDARD
END:VTIMEZONE
BEGIN:VEVENT
DTSTART;VALUE=DATE:20210524
DTEND;VALUE=DATE:20210525
DTSTAMP:20260423T060632
CREATED:20210125T172729Z
LAST-MODIFIED:20210506T175636Z
UID:1067-1621814400-1621900799@aestheticuniversity.com
SUMMARY:Advanced Master Lip Course: In-Person\, Hands-On Training
DESCRIPTION: (8 people allowed) \nWe’re taking your lip treatments to a whole new level. In this course\, you will learn how to project\, pout\, and lift your patients’ lips. We will train in depth on lip framing\, various lip sizes\, and how to most effectively utilize different gauge needles to achieve the best lip results possible for your patients. \nIn addition\, we will be discussing complications\, certain challenges with lip treatments\, blending\, transferring product\, and how to choose the best filler for your patient (an in-depth look at rheology). \nHighlights of this course include:\n \n\nAdvanced\, hands-on lip training: How to inject the difficult and anatomical variant pyriform app\nLip framing\, Cupid’s bow\nAdvanced tenting\nPouting\nTubercle enhancement\nSuperficial PDO threads\nBlending\nBorder definition\nProduct selection/rheology\nPhiltrum column enhancement\nIn-depth anatomy review\nHow to avoid complications\nHow to address complications\nPowerPoint and lecture\n\nWhat’s included: \n– PowerPoint\n– Videos you are able to watch 24/7!\n– Live demos on techniques\n– Live question and answer section\n\nAdditional Information:\nAll participants will receive a copy of slides and access to videos from the day of for their training.\nNearest Airports – DCA\, IAD\, BWI\n\n*For the safety and well-being of our staff and participants\, we will not allow those who have traveled internationally within 90 days to attend in-person courses and/or shadow days. 
URL:https://aestheticuniversity.com/class/advanced-master-lip-course-in-person-hands-on-training/
LOCATION:Moksha Aesthetics\, 10220 River Road\, Suite 3\, Potomac\, MD\, 20854\, United States
CATEGORIES:Advanced Courses,Classes
ATTACH;FMTTYPE=image/jpeg:https://aestheticuniversity.com/wp-content/uploads/2021/02/ClassPageHeaders_SOLDOUT_AdvLipCourse.jpg
END:VEVENT
END:VCALENDAR