BEGIN:VCALENDAR
VERSION:2.0
PRODID:-//Aesthetic University - ECPv5.7.1//NONSGML v1.0//EN
CALSCALE:GREGORIAN
METHOD:PUBLISH
X-WR-CALNAME:Aesthetic University
X-ORIGINAL-URL:https://aestheticuniversity.com
X-WR-CALDESC:Events for Aesthetic University
BEGIN:VTIMEZONE
TZID:America/New_York
BEGIN:DAYLIGHT
TZOFFSETFROM:-0500
TZOFFSETTO:-0400
TZNAME:EDT
DTSTART:20220313T070000
END:DAYLIGHT
BEGIN:STANDARD
TZOFFSETFROM:-0400
TZOFFSETTO:-0500
TZNAME:EST
DTSTART:20221106T060000
END:STANDARD
END:VTIMEZONE
BEGIN:VEVENT
DTSTART;TZID=America/New_York:20220521T084500
DTEND;TZID=America/New_York:20220521T160000
DTSTAMP:20260423T043947
CREATED:20220106T222337Z
LAST-MODIFIED:20220513T171944Z
UID:3120-1653122700-1653148800@aestheticuniversity.com
SUMMARY:Advanced Tox and Filler Training with Larry Blevins PA-C & Joss Bracken\, NP-C (5/21/22)
DESCRIPTION:CLICK HERE TO PURCHASE\n		\n					\n		\n				\n				\n				\n				\n								\n					Non-Members:  $3600Members: $2880Class size limited to 6 Course description available below Aesthetic University’s Advanced Neurotoxin and Filler Course is a one-day course taught by Waseem Garbia\, PA-C. Participants must have a valid RN\, NP\, PA\, MD\, or DDS license to attend. The advanced course is designed for those who have at minimum 6 months of injectable Neurotoxin and Dermal Filler experience.The Advanced Course Includes:Informative didactic presentationThe latest and advanced Neurotoxin and Dermal Filler TechniquesPatient demonstrations8 Point LiftAdvanced master lip trainingAdvanced Sculptra and hyper dilute RadiesseTemples and tear troughs
URL:https://aestheticuniversity.com/class/advanced-tox-and-filler-training-5-21-22/
LOCATION:Moksha Aesthetics\, 10220 River Road\, Suite 3\, Potomac\, MD\, 20854\, United States
CATEGORIES:Advanced Courses,Classes
ATTACH;FMTTYPE=image/png:https://aestheticuniversity.com/wp-content/uploads/2021/10/FA7B165F-5304-4952-AD96-7176AAA1A264.png
END:VEVENT
END:VCALENDAR