BEGIN:VCALENDAR
VERSION:2.0
PRODID:-//Aesthetic University - ECPv5.7.1//NONSGML v1.0//EN
CALSCALE:GREGORIAN
METHOD:PUBLISH
X-WR-CALNAME:Aesthetic University
X-ORIGINAL-URL:https://aestheticuniversity.com
X-WR-CALDESC:Events for Aesthetic University
BEGIN:VTIMEZONE
TZID:America/New_York
BEGIN:DAYLIGHT
TZOFFSETFROM:-0500
TZOFFSETTO:-0400
TZNAME:EDT
DTSTART:20210314T070000
END:DAYLIGHT
BEGIN:STANDARD
TZOFFSETFROM:-0400
TZOFFSETTO:-0500
TZNAME:EST
DTSTART:20211107T060000
END:STANDARD
END:VTIMEZONE
BEGIN:VEVENT
DTSTART;TZID=America/New_York:20211202T100000
DTEND;TZID=America/New_York:20211202T170000
DTSTAMP:20260421T094254
CREATED:20211026T200429Z
LAST-MODIFIED:20211202T182710Z
UID:2464-1638439200-1638464400@aestheticuniversity.com
SUMMARY:Shadow Day (12/2/21)
DESCRIPTION:CLICK HERE TO PURCHASE\n		\n					\n		\n				\n				\n				\n				\n								\n					Members: $1500/dayShadow/Observation Days are limited to 2 attendees per dayCourse Description available belowAesthetic University’s Shadow/Observation Days offers beginner through advanced providers the opportunity to observe one of our highly skilled injectors as they function through their appointments on a regular clinic day. Attendees are encouraged to ask questions (when not in front of a patient) of the trainers to gain an understanding of their techniques\, managing the patient\, why they chose a particular tox or filler\, or anything else that they may have questions about. The Shadow/Observation days are typically 5 hours and there is no guarantee of which services you will be observing\, or with which of our skilled providers you will be working shadowing/observing.
URL:https://aestheticuniversity.com/class/aesthetic-university-shadow-observation-day/
LOCATION:Moksha Aesthetics\, 10220 River Road\, Suite 3\, Potomac\, MD\, 20854\, United States
CATEGORIES:Onsite Shadowing
ATTACH;FMTTYPE=image/jpeg:https://aestheticuniversity.com/wp-content/uploads/2021/10/5E3B5084-BBC9-4CF3-8C69-D1C11178E40D.jpeg
END:VEVENT
END:VCALENDAR