BEGIN:VCALENDAR
VERSION:2.0
PRODID:-//Aesthetic University - ECPv5.7.1//NONSGML v1.0//EN
CALSCALE:GREGORIAN
METHOD:PUBLISH
X-WR-CALNAME:Aesthetic University
X-ORIGINAL-URL:https://aestheticuniversity.com
X-WR-CALDESC:Events for Aesthetic University
BEGIN:VTIMEZONE
TZID:America/New_York
BEGIN:DAYLIGHT
TZOFFSETFROM:-0500
TZOFFSETTO:-0400
TZNAME:EDT
DTSTART:20210314T070000
END:DAYLIGHT
BEGIN:STANDARD
TZOFFSETFROM:-0400
TZOFFSETTO:-0500
TZNAME:EST
DTSTART:20211107T060000
END:STANDARD
END:VTIMEZONE
BEGIN:VEVENT
DTSTART;VALUE=DATE:20210327
DTEND;VALUE=DATE:20210329
DTSTAMP:20260423T073515
CREATED:20210103T034354Z
LAST-MODIFIED:20210204T190849Z
UID:233-1616803200-1616975999@aestheticuniversity.com
SUMMARY:Beginner Botox/Filler Training & Certification: In-Person\, Hands-On Training
DESCRIPTION:Beginner Botox Training & Certification: In-Person\, Hands-On Training – $1800 (8 people allowed)\nBeginner Filler Training & Certification: In-Person\, Hands-On Training – $1800 (8 people allowed)\nOR\nPurchase both Beginning Botox & Beginning Filler for $3200 ($400 savings)*\n*Discount will be automatically be applied at the end of checkout. \nExtensive hands-on training with all fillers and toxins; Galderma\, Merz\, Allergan\, Prollenium\, Versa\, and Newtox. The meeting provides a unique opportunity to learn\, become certified in injectables\, meet other injectors\, and generate new and innovative ideas in aesthetic medicine. \nAgenda and Topics of discussion: \nBotox (Day 1) 10 AM- 4 PM \n\nIdentify who is a candidate for the Botox Procedure\, be able to explain patient benefits\, and potential issues with long-term use of the prescription. Understand the aesthetic consultation process and increase patient awareness and enhanced patient care in relation to the Botox treatment.\nApply general accepted standards of care for the administration of the botulinum toxin for aesthetic purposes:\n\nZones of the Upper Face including Worry Lines (Glabellar Complex)\, Forehead Traverse Rhytids\, Lateral Canthal Rhytids (Crows Feet)\, Lateral Eyebrow Shaping.\nLower Face—Excessive Gingival Displays (Gummy Smile)\, Vertical Lip Rhytids\, Lip Flip\, and Bunny Lines.\n\n\nPractice injection procedures such as aesthetic botulinum toxins injections competently\, safely\, and effectively. Each of our attendees will gain a full understanding of possible adverse results and learn how to avoid these risks and complications.\nGain a thorough understanding of basic facial anatomy associated with these injections as well as the mechanism of action to explain probable outcomes for patients. Included within the didactic presentation includes product characteristics\, physician versus patient preference\, managing expectations\, and post-procedure instructions\, follow up\, and managing complications.\n\nFiller (Day 2) 10 AM- 4 PM \n\nIdentify who is a candidate for the Filler; Be able to explain patient benefits and potential issues; pre and post care\nUnderstand the aesthetic consultation process and increase patient awareness and enhanced patient care in relation to injection of product; How a good consultation is key to patient satisfaction and business success\nApply general accepted standards of care for the Injection of Filler for aesthetic purposes:\n\nMid-Face Augmentation and Contouring\nLower-Face Enhancement: Marionette Lines\, Laugh lines and Nasal Labial Folds\nLips: Lip framing and creating the perfect pout\n\n\nPractice injection procedures with various fillers competently\, safely\, and effectively. Each of our attendees will gain a full understanding of possible adverse results and learn how to avoid these risks and complications.\nGain a thorough understanding of basic facial anatomy associated with these injections as well as the rheology and probable outcomes for patients. Included within the didactic presentation includes product characteristics\, physician versus patient preference\, managing expectations\, and post-procedure instructions\, follow-up\, and managing complications.\nAnd\, most important\, HANDS-ON EXPERIENCE!\n\n$1800 – Beginner Botox (Scroll to bottom of page to purchase)\n$1800 – Beginner Filler (Scroll to bottom of page to purchase)\nPurchase both Beginning Botox & Beginning Filler for $3200 ($400 savings) \nAdditional Information:\n\nAll participants will receive a copy of slides and access to videos from the day of for their training.\nNearest Airports – DCA\, IAD\, BWI \n(Scroll to bottom of page to purchase)
URL:https://aestheticuniversity.com/class/beginner-botox-training-certification-in-person-hands-on-training/
LOCATION:Moksha Aesthetics\, 10220 River Road\, Suite 3\, Potomac\, MD\, 20854\, United States
CATEGORIES:Beginner Courses,Classes
ATTACH;FMTTYPE=image/jpeg:https://aestheticuniversity.com/wp-content/uploads/2021/01/Artboard-3-1.jpg
END:VEVENT
END:VCALENDAR