BEGIN:VCALENDAR
VERSION:2.0
PRODID:-//Aesthetic University - ECPv5.7.1//NONSGML v1.0//EN
CALSCALE:GREGORIAN
METHOD:PUBLISH
X-WR-CALNAME:Aesthetic University
X-ORIGINAL-URL:https://aestheticuniversity.com
X-WR-CALDESC:Events for Aesthetic University
BEGIN:VTIMEZONE
TZID:America/New_York
BEGIN:DAYLIGHT
TZOFFSETFROM:-0500
TZOFFSETTO:-0400
TZNAME:EDT
DTSTART:20220313T070000
END:DAYLIGHT
BEGIN:STANDARD
TZOFFSETFROM:-0400
TZOFFSETTO:-0500
TZNAME:EST
DTSTART:20221106T060000
END:STANDARD
END:VTIMEZONE
BEGIN:VEVENT
DTSTART;TZID=America/New_York:20220521T084500
DTEND;TZID=America/New_York:20220521T160000
DTSTAMP:20260423T062559
CREATED:20220413T203349Z
LAST-MODIFIED:20220513T171847Z
UID:3341-1653122700-1653148800@aestheticuniversity.com
SUMMARY:Beginner Filler with Kelly Branch\, NP-C & Sheila Surdu RN\, CANS (5/21/22)
DESCRIPTION:CLICK HERE TO PURCHASE\n		\n					\n		\n				\n				\n				\n				\n								\n					Non-Members:  $2300 for one day\, $4600 for both daysMembers: $1840 for one day and $3680 for both daysDay one of the training is Tox\, Day 2 is Filler.  You may register for one or both daysClass size limited to 12 Aesthetic University’s Beginner Neurotoxin and Dermal Filler course is a two-day course taught by Kelly Branch\, NP-C & Sheila Surdu RN\, CANS. Participants must have a valid RN\, NP\, PA\, MD\, or DDS license to attend. The beginner courses are meant for those new to aesthetics\, looking to enter the field of aesthetics\, or for those who want to freshen up their skills. It is our goal that through participating in this training\, participants will obtain the skills necessary to incorporate the use of neurotoxins into their practice. Participants may choose to take just one day of either neurotoxin or dermal filler only\, or both days for a more rounded experience. THE BEGINNER COURSE INCLUDES:An in-depth didactic on the safe use of neurotoxin and dermal filler · Relevant anatomical considerationsThe art of a comprehensive patient consultationCreation of a treatment planStep by step guidance of how to safely and accurately inject neurotoxin and filler to attain desired patient results.Hands on clinical training
URL:https://aestheticuniversity.com/class/beginner-filler-with-kelly-branch-np-c-sheila-surdu-rn-cans-5-21-22/
LOCATION:Moksha Aesthetics\, 10220 River Road\, Suite 3\, Potomac\, MD\, 20854\, United States
CATEGORIES:Beginner Courses,Classes
ATTACH;FMTTYPE=image/png:https://aestheticuniversity.com/wp-content/uploads/2021/10/7119A981-A1EE-4A0A-B5ED-9FA53EF578C6.png
END:VEVENT
END:VCALENDAR