BEGIN:VCALENDAR
VERSION:2.0
PRODID:-//Aesthetic University - ECPv5.7.1//NONSGML v1.0//EN
CALSCALE:GREGORIAN
METHOD:PUBLISH
X-WR-CALNAME:Aesthetic University
X-ORIGINAL-URL:https://aestheticuniversity.com
X-WR-CALDESC:Events for Aesthetic University
BEGIN:VTIMEZONE
TZID:America/New_York
BEGIN:DAYLIGHT
TZOFFSETFROM:-0500
TZOFFSETTO:-0400
TZNAME:EDT
DTSTART:20210314T070000
END:DAYLIGHT
BEGIN:STANDARD
TZOFFSETFROM:-0400
TZOFFSETTO:-0500
TZNAME:EST
DTSTART:20211107T060000
END:STANDARD
END:VTIMEZONE
BEGIN:VEVENT
DTSTART;TZID=America/New_York:20210912T100000
DTEND;TZID=America/New_York:20210912T160000
DTSTAMP:20260423T043408
CREATED:20210402T145500Z
LAST-MODIFIED:20210712T183942Z
UID:1725-1631440800-1631462400@aestheticuniversity.com
SUMMARY:Beginner Neuromodulator (Toxin)
DESCRIPTION:Purchase both Beginner Neuromodulator & Beginner Filler Technique classes for $3400 ($400 savings)*\n*Discount will be automatically be applied at the end of checkout. \nExtensive hands-on training with all fillers and toxins; Galderma\, Merz\, Allergan\, Prollenium\, Versa\, and Newtox. The meeting provides a unique opportunity to learn\, become certified in injectables\, meet other injectors\, and generate new and innovative ideas in aesthetic medicine. \nAgenda and Topics of discussion: \n\nIdentify who is a candidate for the Botox Procedure\, be able to explain patient benefits\, and potential issues with long-term use of the prescription. Understand the aesthetic consultation process and increase patient awareness and enhanced patient care in relation to the Botox treatment.\nApply general accepted standards of care for the administration of the botulinum toxin for aesthetic purposes:\n\nZones of the Upper Face including Worry Lines (Glabellar Complex)\, Forehead Traverse Rhytids\, Lateral Canthal Rhytids (Crows Feet)\, Lateral Eyebrow Shaping.\nLower Face—Excessive Gingival Displays (Gummy Smile)\, Vertical Lip Rhytids\, Lip Flip\, and Bunny Lines.\n\n\nPractice injection procedures such as aesthetic botulinum toxins injections competently\, safely\, and effectively. Each of our attendees will gain a full understanding of possible adverse results and learn how to avoid these risks and complications.\nGain a thorough understanding of basic facial anatomy associated with these injections as well as the mechanism of action to explain probable outcomes for patients. Included within the didactic presentation includes product characteristics\, physician versus patient preference\, managing expectations\, and post-procedure instructions\, follow up\, and managing complications.
URL:https://aestheticuniversity.com/class/beginner-neuromodulator-toxin/
LOCATION:Moksha Aesthetics\, 10220 River Road\, Suite 3\, Potomac\, MD\, 20854\, United States
CATEGORIES:Beginner Courses
ATTACH;FMTTYPE=image/jpeg:https://aestheticuniversity.com/wp-content/uploads/2021/04/SOLDOUT_ClassPageHeaders_V2_BegTox.jpg
END:VEVENT
END:VCALENDAR