BEGIN:VCALENDAR
VERSION:2.0
PRODID:-//Aesthetic University - ECPv5.7.1//NONSGML v1.0//EN
CALSCALE:GREGORIAN
METHOD:PUBLISH
X-WR-CALNAME:Aesthetic University
X-ORIGINAL-URL:https://aestheticuniversity.com
X-WR-CALDESC:Events for Aesthetic University
BEGIN:VTIMEZONE
TZID:America/New_York
BEGIN:DAYLIGHT
TZOFFSETFROM:-0500
TZOFFSETTO:-0400
TZNAME:EDT
DTSTART:20220313T070000
END:DAYLIGHT
BEGIN:STANDARD
TZOFFSETFROM:-0400
TZOFFSETTO:-0500
TZNAME:EST
DTSTART:20221106T060000
END:STANDARD
END:VTIMEZONE
BEGIN:VEVENT
DTSTART;TZID=America/New_York:20220924T080000
DTEND;TZID=America/New_York:20220924T170000
DTSTAMP:20260421T190822
CREATED:20220711T143419Z
LAST-MODIFIED:20220711T143938Z
UID:3756-1664006400-1664038800@aestheticuniversity.com
SUMMARY:Natural Tear Trough Technique with Adrienne Easterling\, PA-C (9/24/22 & 9/25/22)
DESCRIPTION:CLICK HERE TO PURCHASE\n		\n					\n		\n				\n				\n				\n				\n								\n					Saturday\, September 24 from 8:00 – 5:00Sunday\, September 25 from 8:00 – 5:00 $3500 for non-members\, $3000 for members Didactic followed by live models.  Course Information: The infraorbital area\, as we know\, is one of the most challenging areas to perfect without giving a puffy or unnatural appearance.  There can be many challenges since there are many different types of tear trough deformities based on anatomical differences. Filler migration and lymphatic blockage are common complications and I was determined to find a way to restore youthfulness to eyes that would continue to look beautiful years later without causing an unnatural puffiness.  My proprietary technique has been giving me successful results for the last 5 years and I can’t wait to share it with you!
URL:https://aestheticuniversity.com/class/natural-tear-trough-technique-with-adrienne-easterling-pa-c-9-24-22-9-25-22/2022-09-24/
CATEGORIES:Face & Body Contouring
ATTACH;FMTTYPE=image/png:https://aestheticuniversity.com/wp-content/uploads/2022/07/Natural-Tear-Trough-Training.png
END:VEVENT
END:VCALENDAR