BEGIN:VCALENDAR
VERSION:2.0
PRODID:-//Aesthetic University - ECPv5.7.1//NONSGML v1.0//EN
CALSCALE:GREGORIAN
METHOD:PUBLISH
X-WR-CALNAME:Aesthetic University
X-ORIGINAL-URL:https://aestheticuniversity.com
X-WR-CALDESC:Events for Aesthetic University
BEGIN:VTIMEZONE
TZID:America/New_York
BEGIN:DAYLIGHT
TZOFFSETFROM:-0500
TZOFFSETTO:-0400
TZNAME:EDT
DTSTART:20220313T070000
END:DAYLIGHT
BEGIN:STANDARD
TZOFFSETFROM:-0400
TZOFFSETTO:-0500
TZNAME:EST
DTSTART:20221106T060000
END:STANDARD
END:VTIMEZONE
BEGIN:VEVENT
DTSTART;TZID=America/New_York:20220522T100000
DTEND;TZID=America/New_York:20220522T140000
DTSTAMP:20260421T070240
CREATED:20220106T223049Z
LAST-MODIFIED:20220513T171641Z
UID:3122-1653213600-1653228000@aestheticuniversity.com
SUMMARY:PDO Thread Course with Dr. Dina BenDavid\, DNP\, MS\, FNP-C (5/22/21)
DESCRIPTION:CLICK HERE TO PURCHASE\n		\n					\n		\n				\n				\n				\n				\n								\n					Our PDO certification training course for thread face lifting is designed for those medical professionals interested in integrating this minimally invasive procedure into their practices. The specialized hands-on training promises to equip interested practitioners with the specific knowledge needed regarding determining which patients will best benefit\, proper thread placement\, anatomical considerations\, pre-/post-procedure care\, as well as branding and marketing of PDO threads. Our goal is to effectively enable all attending practitioners to implement this new\, high-demand procedure safely upon completion of training.  Our Hands-On PDO Training Course Includes: Informative lecture on PDO threadsHands-on experience with each facial areaPDO procedureHere are a few things to make note of prior to your training: Our office is located at 10220 River Road\, Suite 3\, Potomac\, MD 20854. If you are participating in an in-person training course\, please arrive promptly at 9:00 AM (or other designated time) wearing scrubs and a mask. We ask that all attendees park in the back parking lot in any of the middle spots. While on site\, please be sure to follow all COVID-19 protocols during your visit by bringing your own mask and maintaining adequate social distancing. You will receive an e-mail from our Administrator prior to the class with any last minute notes or details. Each training experience will feature Master Injectors demonstrating the proven techniques to provide best possible outcomes for patients. Should you have any questions prior to your course\, don’t hesitate to give us a call at (240) 499-8854. We look forward to seeing you very soon!
URL:https://aestheticuniversity.com/class/pdo-thread-course-5-22-21/
LOCATION:Moksha Aesthetics\, 10220 River Road\, Suite 3\, Potomac\, MD\, 20854\, United States
CATEGORIES:Classes,Threads
ATTACH;FMTTYPE=image/png:https://aestheticuniversity.com/wp-content/uploads/2022/01/image3__11383.1635347550.png
END:VEVENT
END:VCALENDAR