BEGIN:VCALENDAR
VERSION:2.0
PRODID:-//Aesthetic University - ECPv5.7.1//NONSGML v1.0//EN
CALSCALE:GREGORIAN
METHOD:PUBLISH
X-WR-CALNAME:Aesthetic University
X-ORIGINAL-URL:https://aestheticuniversity.com
X-WR-CALDESC:Events for Aesthetic University
BEGIN:VTIMEZONE
TZID:America/New_York
BEGIN:DAYLIGHT
TZOFFSETFROM:-0500
TZOFFSETTO:-0400
TZNAME:EDT
DTSTART:20210314T070000
END:DAYLIGHT
BEGIN:STANDARD
TZOFFSETFROM:-0400
TZOFFSETTO:-0500
TZNAME:EST
DTSTART:20211107T060000
END:STANDARD
END:VTIMEZONE
BEGIN:VEVENT
DTSTART;VALUE=DATE:20210323
DTEND;VALUE=DATE:20210324
DTSTAMP:20260421T094407
CREATED:20210126T172047Z
LAST-MODIFIED:20210310T173929Z
UID:1103-1616457600-1616543999@aestheticuniversity.com
SUMMARY:Shadow Day
DESCRIPTION:If having the opportunity to witness precise injecting techniques by @injectorbunny or @injectorhoney interests you\, then our Shadow Days are what you’ve been waiting for. \nShadow Days make it possible for you to follow our master injectors as they carry out their injection appointments on designated days! We invite our students to ask questions (when we’re not in front of the patients) and inquire about blending and filler dilutions as well as injection techniques. \nEach shadow session typically lasts 5 hours\, and we cannot guarantee specific appointments or filler techniques will be shown on any given day. But Erika and Honey will always make sure to demonstrate a valuable technique prior to the end of the session or thoroughly explain a technique if it was not witnessed during your Shadow Day.
URL:https://aestheticuniversity.com/class/shadow-day-12/
LOCATION:Moksha Aesthetics\, 10220 River Road\, Suite 3\, Potomac\, MD\, 20854\, United States
CATEGORIES:Onsite Shadowing
ATTACH;FMTTYPE=image/jpeg:https://aestheticuniversity.com/wp-content/uploads/2021/01/ClassPageHeaders_SOLDOUT_ShadowDays.jpg
END:VEVENT
END:VCALENDAR