BEGIN:VCALENDAR
VERSION:2.0
PRODID:-//Aesthetic University - ECPv5.7.1//NONSGML v1.0//EN
CALSCALE:GREGORIAN
METHOD:PUBLISH
X-WR-CALNAME:Aesthetic University
X-ORIGINAL-URL:https://aestheticuniversity.com
X-WR-CALDESC:Events for Aesthetic University
BEGIN:VTIMEZONE
TZID:America/New_York
BEGIN:DAYLIGHT
TZOFFSETFROM:-0500
TZOFFSETTO:-0400
TZNAME:EDT
DTSTART:20220313T070000
END:DAYLIGHT
BEGIN:STANDARD
TZOFFSETFROM:-0400
TZOFFSETTO:-0500
TZNAME:EST
DTSTART:20221106T060000
END:STANDARD
END:VTIMEZONE
BEGIN:VEVENT
DTSTART;TZID=America/New_York:20220521T180000
DTEND;TZID=America/New_York:20220521T220000
DTSTAMP:20260421T065723
CREATED:20220106T221614Z
LAST-MODIFIED:20220513T171805Z
UID:3107-1653156000-1653170400@aestheticuniversity.com
SUMMARY:Symposium with Erika\, Hanieh\, Justin\, Larry & Amy
DESCRIPTION:CLICK HERE TO PURCHASE\n		\n					\n		\n				\n				\n				\n				\n								\n					Please join us for our 2022 Aesthetic University Injector Symposium!When: Saturday\, May 21 @ 6:30pmWhere: Ritz-Carlton Tysons CornerFeaturing: Motivational Guest Speakers\, Social Media Insights\, Special Injectable Deals  One free registration for Members!Non-Members $395 We will be holding Beginner and Advanced Tox and Filler Courses\, Sculptra Techniques and Kybella Tip Courses during the weekend. Course Dates and Times TBA soon!
URL:https://aestheticuniversity.com/class/symposium/
LOCATION:Ritz Carlton Tysons Corner\, VA\, 1700 Tysons Blvd\, McLean\, VA\, 22102
CATEGORIES:Onsite Shadowing
ATTACH;FMTTYPE=image/jpeg:https://aestheticuniversity.com/wp-content/uploads/2022/01/Ritz_Carlton__29308.1639596509.jpg
END:VEVENT
END:VCALENDAR