BEGIN:VCALENDAR
VERSION:2.0
PRODID:-//Aesthetic University - ECPv5.7.1//NONSGML v1.0//EN
CALSCALE:GREGORIAN
METHOD:PUBLISH
X-WR-CALNAME:Aesthetic University
X-ORIGINAL-URL:https://aestheticuniversity.com
X-WR-CALDESC:Events for Aesthetic University
BEGIN:VTIMEZONE
TZID:America/New_York
BEGIN:DAYLIGHT
TZOFFSETFROM:-0500
TZOFFSETTO:-0400
TZNAME:EDT
DTSTART:20220313T070000
END:DAYLIGHT
BEGIN:STANDARD
TZOFFSETFROM:-0400
TZOFFSETTO:-0500
TZNAME:EST
DTSTART:20221106T060000
END:STANDARD
END:VTIMEZONE
BEGIN:VEVENT
DTSTART;TZID=America/New_York:20220813T090000
DTEND;TZID=America/New_York:20220813T150000
DTSTAMP:20260423T044240
CREATED:20220526T153659Z
LAST-MODIFIED:20220613T134513Z
UID:3537-1660381200-1660402800@aestheticuniversity.com
SUMMARY:Ultrasound for Aesthetics with Dani Sparkle PA-C (8/13/22)
DESCRIPTION:CLICK HERE TO PURCHASE\n		\n					\n		\n				\n				\n				\n				\n								\n					Non-Members:  $3200Members: $2800Class Size: 8Course Description:Aesthetic University/Sparkle Aesthetics Offers a full day course approved for 6 contact hours\, where you will learn the basics of ultrasound for safe injection practices! Dani will show you the basics of ultrasound with a focus on practical applications and how to apply this powerful modality that can help minimize complications. Each participant gets hands-on application experience with a model to apply their new skills.
URL:https://aestheticuniversity.com/class/ultrasound-for-aesthetics-with-dani-sparkle-pa-c-8-13-22/
LOCATION:Moksha Aesthetics\, 10220 River Road\, Suite 3\, Potomac\, MD\, 20854\, United States
CATEGORIES:Advanced Courses,Classes
ATTACH;FMTTYPE=image/png:https://aestheticuniversity.com/wp-content/uploads/2022/05/Clarius-Training-with-Dani-Sparkle.png
END:VEVENT
END:VCALENDAR